BEGIN:VCALENDAR
VERSION:2.0
PRODID:-//eventon.com NONSGML v1.0//EN
BEGIN:VEVENT
UID:69e64a386329d
DTSTAMP:20260420T114600
DTSTART:20200730T230000Z
DTEND:20200731T000000Z
LOCATION:
SUMMARY:Volunteer: Plants & Pollinators Webinar
DESCRIPTION: The 2020 Passport to Nature program has been postponed to next year. Instead\,  the committee has been working on planning monthly webinars. Similar to any passport event\,  many of the people who attend with be hearing about the Conservancy for the first time. As a result\,  it is important to[..]
END:VEVENT
END:VCALENDAR