BEGIN:VCALENDAR
VERSION:2.0
PRODID:-//eventon.com NONSGML v1.0//EN
BEGIN:VEVENT
UID:69ea3e6b9fb7c
DTSTAMP:20260423T114443
DTSTART:20241127T223000Z
DTEND:20241128T010000Z
LOCATION:St. Paul's Centre 62 Peter St N\,  Orillia\,  ON L3V 4Z1
SUMMARY:Nature Counts
DESCRIPTION: Attention volunteers! Join us on November 27th at St. Paul's Centre Banquet Hall from 6:30 to 9:00 PM for this year's Nature Counts event! Celebrate the incredible accomplishments of our volunteers over the past year while enjoying a delightful evening filled with food and exciting door prizes. Registration link: https://lp.constantcontactpages.com/ev/reg/zfpme6r
END:VEVENT
END:VCALENDAR