BEGIN:VCALENDAR
VERSION:2.0
PRODID:-//eventon.com NONSGML v1.0//EN
BEGIN:VEVENT
UID:69ea366f06957
DTSTAMP:20260423T111039
DTSTART:20250713T003000Z
DTEND:20250713T020000Z
LOCATION:
SUMMARY:Bat Monitoring
DESCRIPTION: Registration Opens May 12!
END:VEVENT
END:VCALENDAR