BEGIN:VCALENDAR
VERSION:2.0
PRODID:-//eventon.com NONSGML v1.0//EN
BEGIN:VEVENT
UID:69ea3ee271905
DTSTAMP:20260423T114642
DTSTART:20250628T120000Z
DTEND:20250628T180000Z
LOCATION:
SUMMARY:Eldridge Bioblitz
DESCRIPTION: This nature reserve contains wetlands\,  rock barrens\,  scenic outlooks\,  forests\,  and meadows. By cataloguing as many species as we can\,  we will better understand the land\,  its needs\,  and protect the area. We will record as much biodiversity as possible. Eldridge is not normally open to the public\,  so this[..]
END:VEVENT
END:VCALENDAR